Workbook

Sheet 様式3i-1（提出用）
C1: （様式３i－１） | M1: 業績集計表 | AU1: Ｎｏ． | AX1: ='様式3i-1 入力用シート'!Y2 -> 0
AO3: （ | AP3: 氏名 | AS3: ） | AT3: ='様式3i-1 入力用シート'!Y1 -> 0
D7: IF・ＣＩの計算は最新版（2022）でお願いします。
D9: 業績目録（様式3a～3g）の内容を集計して下さい。
D12: 著書 | G12: （編数のみ） | AF12: 国際学会発表
M15: 編数 | AN15: 筆頭 | AS15: それ以外
D16: 英文 | J16: 筆頭 | M16: ='様式3i-1 入力用シート'!K11 -> 0 | Q16: 編
AF17: 講演 | AH17: 特別講演 | AN17: =COUNTIFS('様式3i-1 入力用シート'!$V$151:$Z$250,AH17,'様式3i-1 入力用シート'!$AA$151:$AE$250,$AN$15) -> 0 | AR17: 回 | AS17: =COUNTIFS('様式3i-1 入力用シート'!$V$151:$Z$250,AH17,'様式3i-1 入力用シート'!$AA$151:$AE$250,$AS$15) -> 0 | AW17: 回
J18: それ以外 | M18: ='様式3i-1 入力用シート'!K13 -> 0 | Q18: 編
AH19: 教育講演 | AN19: =COUNTIFS('様式3i-1 入力用シート'!$V$151:$Z$250,AH19,'様式3i-1 入力用シート'!$AA$151:$AE$250,$AN$15) -> 0 | AR19: 回 | AS19: =COUNTIFS('様式3i-1 入力用シート'!$V$151:$Z$250,AH19,'様式3i-1 入力用シート'!$AA$151:$AE$250,$AS$15) -> 0 | AW19: 回
D20: 邦文 | J20: 筆頭 | M20: ='様式3i-1 入力用シート'!K15 -> 0 | Q20: 編
AF21: シンポジウム | AN21: =COUNTIFS('様式3i-1 入力用シート'!$V$151:$Z$250,AF21,'様式3i-1 入力用シート'!$AA$151:$AE$250,$AN$15) -> 0 | AR21: 回 | AS21: =COUNTIFS('様式3i-1 入力用シート'!$V$151:$Z$250,AF21,'様式3i-1 入力用シート'!$AA$151:$AE$250,$AS$15) -> 0 | AW21: 回
J22: それ以外 | M22: ='様式3i-1 入力用シート'!K17 -> 0 | Q22: 編
AF23: ワークショップ | AN23: =COUNTIFS('様式3i-1 入力用シート'!$V$151:$Z$250,AF23,'様式3i-1 入力用シート'!$AA$151:$AE$250,$AN$15) -> 0 | AR23: 回 | AS23: =COUNTIFS('様式3i-1 入力用シート'!$V$151:$Z$250,AF23,'様式3i-1 入力用シート'!$AA$151:$AE$250,$AS$15) -> 0 | AW23: 回
AF25: その他 | AN25: =COUNTIFS('様式3i-1 入力用シート'!$V$151:$Z$250,AF25,'様式3i-1 入力用シート'!$AA$151:$AE$250,$AN$15) -> 0 | AR25: 回 | AS25: =COUNTIFS('様式3i-1 入力用シート'!$V$151:$Z$250,AF25,'様式3i-1 入力用シート'!$AA$151:$AE$250,$AS$15) -> 0 | AW25: 回
D26: 原著 (邦文) | G26: （編数のみ）
AF27: 一般 | AN27: =COUNTIFS('様式3i-1 入力用シート'!$V$151:$Z$250,AF27,'様式3i-1 入力用シート'!$AA$151:$AE$250,$AN$15) -> 0 | AR27: 回 | AS27: =COUNTIFS('様式3i-1 入力用シート'!$V$151:$Z$250,AF27,'様式3i-1 入力用シート'!$AA$151:$AE$250,$AS$15) -> 0 | AW27: 回
M29: 編数
D30: 邦文 | J30: 筆頭 | M30: ='様式3i-1 入力用シート'!K25 -> 0 | Q30: 編
J32: それ以外 | M32: ='様式3i-1 入力用シート'!K27 -> 0 | Q32: 編
AF33: 国内学会発表
D36: 総説 | G36: （編数およびIFの合計） | AN36: 筆頭 | AS36: それ以外
AF38: 講演 | AH38: 特別講演 | AN38: =COUNTIFS('様式3i-1 入力用シート'!$V$257:$Z$356,AH38,'様式3i-1 入力用シート'!$AA$257:$AE$356,$AN$36) -> 0 | AR38: 回 | AS38: =COUNTIFS('様式3i-1 入力用シート'!$V$257:$Z$356,AH38,'様式3i-1 入力用シート'!$AA$257:$AE$356,$AS$15) -> 0 | AW38: 回
M39: 編数 | R39: ＩＦの合計点数 | X39: ＣＩの合計点数
D40: 英文 | J40: 筆頭 | M40: ='様式3i-1 入力用シート'!K35 -> 0 | Q40: 編 | R40: ='様式3i-1 入力用シート'!P35 -> 0 | W40: 点 | X40: ='様式3i-1 入力用シート'!V35 -> 0 | AC40: 点 | AH40: 教育講演 | AN40: =COUNTIFS('様式3i-1 入力用シート'!$V$257:$Z$356,AH40,'様式3i-1 入力用シート'!$AA$257:$AE$356,$AN$36) -> 0 | AR40: 回 | AS40: =COUNTIFS('様式3i-1 入力用シート'!$V$257:$Z$356,AH40,'様式3i-1 入力用シート'!$AA$257:$AE$356,$AS$15) -> 0 | AW40: 回
J42: それ以外 | M42: ='様式3i-1 入力用シート'!K47 -> 0 | Q42: 編 | R42: ='様式3i-1 入力用シート'!P47 -> 0 | W42: 点 | X42: ='様式3i-1 入力用シート'!V47 -> 0 | AC42: 点 | AF42: シンポジウム | AN42: =COUNTIFS('様式3i-1 入力用シート'!$V$257:$Z$356,AF42,'様式3i-1 入力用シート'!$AA$257:$AE$356,$AN$36) -> 0 | AR42: 回 | AS42: =COUNTIFS('様式3i-1 入力用シート'!$V$257:$Z$356,AF42,'様式3i-1 入力用シート'!$AA$257:$AE$356,$AS$15) -> 0 | AW42: 回
D44: 邦文 | J44: 筆頭 | M44: ='様式3i-1 入力用シート'!K64 -> 0 | Q44: 編 | AF44: ワークショップ | AN44: =COUNTIFS('様式3i-1 入力用シート'!$V$257:$Z$356,AF44,'様式3i-1 入力用シート'!$AA$257:$AE$356,$AN$36) -> 0 | AR44: 回 | AS44: =COUNTIFS('様式3i-1 入力用シート'!$V$257:$Z$356,AF44,'様式3i-1 入力用シート'!$AA$257:$AE$356,$AS$15) -> 0 | AW44: 回
J46: それ以外 | M46: ='様式3i-1 入力用シート'!K66 -> 0 | Q46: 編 | AF46: その他 | AN46: =COUNTIFS('様式3i-1 入力用シート'!$V$257:$Z$356,AF46,'様式3i-1 入力用シート'!$AA$257:$AE$356,$AN$36) -> 0 | AR46: 回 | AS46: =COUNTIFS('様式3i-1 入力用シート'!$V$257:$Z$356,AF46,'様式3i-1 入力用シート'!$AA$257:$AE$356,$AS$15) -> 0 | AW46: 回
D50: 症例報告 | G50: （編数およびIFの合計）
M53: 編数 | R53: ＩＦの合計点数 | X53: ＣＩの合計点数
D54: 英文 | J54: 筆頭 | M54: ='様式3i-1 入力用シート'!K74 -> 0 | Q54: 編 | R54: ='様式3i-1 入力用シート'!P74 -> 0 | W54: 点 | X54: ='様式3i-1 入力用シート'!V74 -> 0 | AC54: 点 | AF54: 科学研究費
J56: それ以外 | M56: ='様式3i-1 入力用シート'!K86 -> 0 | Q56: 編 | R56: ='様式3i-1 入力用シート'!P86 -> 0 | W56: 点 | X56: ='様式3i-1 入力用シート'!V86 -> 0 | AC56: 点
AF57: 公的機関（文科省、厚労省等）代表分 | AQ57: ='様式3i-1 入力用シート'!M362 -> 0 | AT57: 個 | AU57: ='様式3i-1 入力用シート'!Q362 -> 0 | AZ57: 円
D58: 邦文 | J58: 筆頭 | M58: ='様式3i-1 入力用シート'!K108 -> 0 | Q58: 編
J60: それ以外 | M60: ='様式3i-1 入力用シート'!K110 -> 0 | Q60: 編 | AF60: 公的機関（文科省、厚労省等）分担分 | AQ60: ='様式3i-1 入力用シート'!M387 -> 0 | AT60: 個 | AU60: ='様式3i-1 入力用シート'!Q387 -> 0 | AZ60: 円
AF63: 財団等 代表分 | AQ63: ='様式3i-1 入力用シート'!M424 -> 0 | AT63: 個 | AU63: ='様式3i-1 入力用シート'!Q424 -> 0 | AZ63: 円
D64: その他 | G64: （編数およびIFの合計）
M66: 編数 | R66: ＩＦの合計点数 | X66: ＣＩの合計点数 | AF66: 財団等 分担分 | AQ66: ='様式3i-1 入力用シート'!M459 -> 0 | AT66: 個 | AU66: ='様式3i-1 入力用シート'!Q459 -> 0 | AZ66: 円
D67: 英文 | J67: 筆頭 | M67: ='様式3i-1 入力用シート'!K117 -> 0 | Q67: 編 | R67: ='様式3i-1 入力用シート'!P117 -> 0 | W67: 点 | X67: ='様式3i-1 入力用シート'!V117 -> 0 | AC67: 点
J69: それ以外 | M69: ='様式3i-1 入力用シート'!K129 -> 0 | Q69: 編 | R69: ='様式3i-1 入力用シート'!P129 -> 0 | W69: 点 | X69: ='様式3i-1 入力用シート'!V129 -> 0 | AC69: 点 | AF69: その他 代表分 | AQ69: ='様式3i-1 入力用シート'!M484 -> 0 | AT69: 個 | AU69: ='様式3i-1 入力用シート'!Q484 -> 0 | AZ69: 円
...

Sheet 様式3i-1 入力用シート
B1: 様式3i-1 入力用シート | V1: 氏名
V2: ページ数
B3: ＊ IF・CLの入力は最新版(2022)でお願いします。
B4: ＊ 業績目録（様式3a～3g）の内容を入力して下さい。
B5: ＊ 英文の原著及び総説については「様式3i-2 入力用シート」により入力をお願いします。
B7: 著書 | E7: （編数のみ）
K10: 編数
B11: 英文 | H11: 筆頭 | O11: 編
H13: それ以外 | O13: 編
B15: 邦文 | H15: 筆頭 | O15: 編
H17: それ以外 | O17: 編
B21: 原著 (邦文) | E21: （編数のみ）
K24: 編数
B25: 邦文 | H25: 筆頭 | O25: 編
H27: それ以外 | O27: 編
B31: 総説 | E31: （編数およびIFの合計）
K34: 編数 | P34: ＩＦの合計点数 | V34: ＣＩの合計点数
B35: 英文 | H35: 筆頭 | K35: =COUNTA(P37:T46) -> 0 | O35: 編 | P35: =SUM(P37:T46) -> 0 | U35: 点 | V35: =SUM(V37:Z46) -> 0 | AA35: 点
H47: それ以外 | K47: =COUNTA(P49:T63) -> 0 | O47: 編 | P47: =SUM(P49:T63) -> 0 | U47: 点 | V47: =SUM(V49:Z63) -> 0 | AA47: 点
B64: 邦文 | H64: 筆頭 | O64: 編
H66: それ以外 | O66: 編
B70: 症例報告 | E70: （編数およびIFの合計）
K73: 編数 | P73: ＩＦの合計点数 | V73: ＣＩの合計点数
B74: 英文 | H74: 筆頭 | K74: =COUNTA(P76:T85) -> 0 | O74: 編 | P74: =SUM(P76:T85) -> 0 | U74: 点 | V74: =SUM(V76:Z85) -> 0 | AA74: 点
H86: それ以外 | K86: =COUNTA(P88:T107) -> 0 | O86: 編 | P86: =SUM(P88:T107) -> 0 | U86: 点 | V86: =SUM(V88:Z107) -> 0 | AA86: 点
B108: 邦文 | H108: 筆頭 | O108: 編
H110: それ以外 | O110: 編
B114: その他 | E114: （編数およびIFの合計）
K116: 編数 | P116: ＩＦの合計点数 | V116: ＣＩの合計点数
B117: 英文 | H117: 筆頭 | K117: =COUNTA(P119:T128) -> 0 | O117: 編 | P117: =SUM(P119:T128) -> 0 | U117: 点 | V117: =SUM(V119:Z128) -> 0 | AA117: 点
H129: それ以外 | K129: =COUNTA(P131:T140) -> 0 | O129: 編 | P129: =SUM(P131:T140) -> 0 | U129: 点 | V129: =SUM(V131:Z140) -> 0 | AA129: 点
B141: 邦文 | H141: 筆頭 | O141: 編
H143: それ以外 | O143: 編
B147: 国際学会発表
AR148: リスト
B150: 演題名 | V150: 分類（選択） | AA150: 順位（選択） | AR150: 特別講演 | AX150: 筆頭
AF151: 1 | AR151: 教育講演 | AX151: それ以外
AF152: 2 | AR152: シンポジウム
AF153: 3 | AR153: ワークショップ
AF154: 4 | AR154: その他
...

Sheet 様式3i-2 （提出用）
B1: （様式３i－２） | N1: Ｎｏ． | P1: ='様式3i-2 入力用シート'!G2 -> 0
B2: 業績集計表（英文の原著及び総説）
B3: IF・ＣＩの計算は2022年版でお願いします。 | K3: （氏名） | L3: ='様式3i-2 入力用シート'!G1 -> 0
B4: 版 | E4: 筆頭 | G4: ２nd | I4: ラスト | K4: それ以外 | M4: 合計 | P4: コレスポンディングオーサー
B7: 2003年以前 | D7: 編 数 | E7: =COUNTIFS('様式3i-2 入力用シート'!$E$10:$E$509,B7,'様式3i-2 入力用シート'!$F$10:$F$509,$E$4) -> 0 | F7: 編 | G7: =COUNTIFS('様式3i-2 入力用シート'!$E$10:$E$509,B7,'様式3i-2 入力用シート'!$F$10:$F$509,$G$4) -> 0 | H7: 編 | I7: =COUNTIFS('様式3i-2 入力用シート'!$E$10:$E$509,B7,'様式3i-2 入力用シート'!$F$10:$F$509,$I$4) -> 0 | J7: 編 | K7: =COUNTIFS('様式3i-2 入力用シート'!$E$10:$E$509,B7,'様式3i-2 入力用シート'!$F$10:$F$509,$K$4) -> 0 | L7: 編 | M7: =E7+G7+I7+K7 -> 0 | N7: 編 | P7: =COUNTIFS('様式3i-2 入力用シート'!$E$10:$E$509,B7,'様式3i-2 入力用シート'!$I$10:$I$509,"✔") -> 0 | Q7: 編
D8: IF合計 | E8: =SUMIFS('様式3i-2 入力用シート'!$G$10:$G$509,'様式3i-2 入力用シート'!$E$10:$E$509,B7,'様式3i-2 入力用シート'!$F$10:$F$509,$E$4) -> 0 | F8: 点 | G8: =SUMIFS('様式3i-2 入力用シート'!$G$10:$G$509,'様式3i-2 入力用シート'!$E$10:$E$509,B7,'様式3i-2 入力用シート'!$F$10:$F$509,$G$4) -> 0 | H8: 点 | I8: =SUMIFS('様式3i-2 入力用シート'!$G$10:$G$509,'様式3i-2 入力用シート'!$E$10:$E$509,B7,'様式3i-2 入力用シート'!$F$10:$F$509,$I$4) -> 0 | J8: 点 | K8: =SUMIFS('様式3i-2 入力用シート'!$G$10:$G$509,'様式3i-2 入力用シート'!$E$10:$E$509,B7,'様式3i-2 入力用シート'!$F$10:$F$509,$K$4) -> 0 | L8: 点 | M8: =E8+G8+I8+K8 -> 0 | N8: 点 | P8: =SUMIFS('様式3i-2 入力用シート'!$G$10:$G$509,'様式3i-2 入力用シート'!$E$10:$E$509,B7,'様式3i-2 入力用シート'!$I$10:$I$509,"✔") -> 0 | Q8: 点
D9: CI合計 | E9: =SUMIFS('様式3i-2 入力用シート'!$H$10:$H$509,'様式3i-2 入力用シート'!$E$10:$E$509,B7,'様式3i-2 入力用シート'!$F$10:$F$509,$E$4) -> 0 | F9: 点 | G9: =SUMIFS('様式3i-2 入力用シート'!$H$10:$H$509,'様式3i-2 入力用シート'!$E$10:$E$509,B7,'様式3i-2 入力用シート'!$F$10:$F$509,$G$4) -> 0 | H9: 点 | I9: =SUMIFS('様式3i-2 入力用シート'!$H$10:$H$509,'様式3i-2 入力用シート'!$E$10:$E$509,B7,'様式3i-2 入力用シート'!$F$10:$F$509,$I$4) -> 0 | J9: 点 | K9: =SUMIFS('様式3i-2 入力用シート'!$H$10:$H$509,'様式3i-2 入力用シート'!$E$10:$E$509,B7,'様式3i-2 入力用シート'!$F$10:$F$509,$K$4) -> 0 | L9: 点 | M9: =E9+G9+I9+K9 -> 0 | N9: 点 | P9: =SUMIFS('様式3i-2 入力用シート'!$H$10:$H$509,'様式3i-2 入力用シート'!$E$10:$E$509,B7,'様式3i-2 入力用シート'!$I$10:$I$509,"✔") -> 0 | Q9: 点
B10: 2004年 | D10: 編 数 | E10: =COUNTIFS('様式3i-2 入力用シート'!$E$10:$E$509,B10,'様式3i-2 入力用シート'!$F$10:$F$509,$E$4) -> 0 | F10: 編 | G10: =COUNTIFS('様式3i-2 入力用シート'!$E$10:$E$509,B10,'様式3i-2 入力用シート'!$F$10:$F$509,$G$4) -> 0 | H10: 編 | I10: =COUNTIFS('様式3i-2 入力用シート'!$E$10:$E$509,B10,'様式3i-2 入力用シート'!$F$10:$F$509,$I$4) -> 0 | J10: 編 | K10: =COUNTIFS('様式3i-2 入力用シート'!$E$10:$E$509,B10,'様式3i-2 入力用シート'!$F$10:$F$509,$K$4) -> 0 | L10: 編 | M10: =E10+G10+I10+K10 -> 0 | N10: 編 | P10: =COUNTIFS('様式3i-2 入力用シート'!$E$10:$E$509,B10,'様式3i-2 入力用シート'!$I$10:$I$509,"✔") -> 0 | Q10: 編
D11: IF合計 | E11: =SUMIFS('様式3i-2 入力用シート'!$G$10:$G$509,'様式3i-2 入力用シート'!$E$10:$E$509,B10,'様式3i-2 入力用シート'!$F$10:$F$509,$E$4) -> 0 | F11: 点 | G11: =SUMIFS('様式3i-2 入力用シート'!$G$10:$G$509,'様式3i-2 入力用シート'!$E$10:$E$509,B10,'様式3i-2 入力用シート'!$F$10:$F$509,$G$4) -> 0 | H11: 点 | I11: =SUMIFS('様式3i-2 入力用シート'!$G$10:$G$509,'様式3i-2 入力用シート'!$E$10:$E$509,B10,'様式3i-2 入力用シート'!$F$10:$F$509,$I$4) -> 0 | J11: 点 | K11: =SUMIFS('様式3i-2 入力用シート'!$G$10:$G$509,'様式3i-2 入力用シート'!$E$10:$E$509,B10,'様式3i-2 入力用シート'!$F$10:$F$509,$K$4) -> 0 | L11: 点 | M11: =E11+G11+I11+K11 -> 0 | N11: 点 | P11: =SUMIFS('様式3i-2 入力用シート'!$G$10:$G$509,'様式3i-2 入力用シート'!$E$10:$E$509,B10,'様式3i-2 入力用シート'!$I$10:$I$509,"✔") -> 0 | Q11: 点
D12: CI合計 | E12: =SUMIFS('様式3i-2 入力用シート'!$H$10:$H$509,'様式3i-2 入力用シート'!$E$10:$E$509,B10,'様式3i-2 入力用シート'!$F$10:$F$509,$E$4) -> 0 | F12: 点 | G12: =SUMIFS('様式3i-2 入力用シート'!$H$10:$H$509,'様式3i-2 入力用シート'!$E$10:$E$509,B10,'様式3i-2 入力用シート'!$F$10:$F$509,$G$4) -> 0 | H12: 点 | I12: =SUMIFS('様式3i-2 入力用シート'!$H$10:$H$509,'様式3i-2 入力用シート'!$E$10:$E$509,B10,'様式3i-2 入力用シート'!$F$10:$F$509,$I$4) -> 0 | J12: 点 | K12: =SUMIFS('様式3i-2 入力用シート'!$H$10:$H$509,'様式3i-2 入力用シート'!$E$10:$E$509,B10,'様式3i-2 入力用シート'!$F$10:$F$509,$K$4) -> 0 | L12: 点 | M12: =E12+G12+I12+K12 -> 0 | N12: 点 | P12: =SUMIFS('様式3i-2 入力用シート'!$H$10:$H$509,'様式3i-2 入力用シート'!$E$10:$E$509,B10,'様式3i-2 入力用シート'!$I$10:$I$509,"✔") -> 0 | Q12: 点
B13: 2005年 | D13: 編 数 | E13: =COUNTIFS('様式3i-2 入力用シート'!$E$10:$E$509,B13,'様式3i-2 入力用シート'!$F$10:$F$509,$E$4) -> 0 | F13: 編 | G13: =COUNTIFS('様式3i-2 入力用シート'!$E$10:$E$509,B13,'様式3i-2 入力用シート'!$F$10:$F$509,$G$4) -> 0 | H13: 編 | I13: =COUNTIFS('様式3i-2 入力用シート'!$E$10:$E$509,B13,'様式3i-2 入力用シート'!$F$10:$F$509,$I$4) -> 0 | J13: 編 | K13: =COUNTIFS('様式3i-2 入力用シート'!$E$10:$E$509,B13,'様式3i-2 入力用シート'!$F$10:$F$509,$K$4) -> 0 | L13: 編 | M13: =E13+G13+I13+K13 -> 0 | N13: 編 | P13: =COUNTIFS('様式3i-2 入力用シート'!$E$10:$E$509,B13,'様式3i-2 入力用シート'!$I$10:$I$509,"✔") -> 0 | Q13: 編
D14: IF合計 | E14: =SUMIFS('様式3i-2 入力用シート'!$G$10:$G$509,'様式3i-2 入力用シート'!$E$10:$E$509,B13,'様式3i-2 入力用シート'!$F$10:$F$509,$E$4) -> 0 | F14: 点 | G14: =SUMIFS('様式3i-2 入力用シート'!$G$10:$G$509,'様式3i-2 入力用シート'!$E$10:$E$509,B13,'様式3i-2 入力用シート'!$F$10:$F$509,$G$4) -> 0 | H14: 点 | I14: =SUMIFS('様式3i-2 入力用シート'!$G$10:$G$509,'様式3i-2 入力用シート'!$E$10:$E$509,B13,'様式3i-2 入力用シート'!$F$10:$F$509,$I$4) -> 0 | J14: 点 | K14: =SUMIFS('様式3i-2 入力用シート'!$G$10:$G$509,'様式3i-2 入力用シート'!$E$10:$E$509,B13,'様式3i-2 入力用シート'!$F$10:$F$509,$K$4) -> 0 | L14: 点 | M14: =E14+G14+I14+K14 -> 0 | N14: 点 | P14: =SUMIFS('様式3i-2 入力用シート'!$G$10:$G$509,'様式3i-2 入力用シート'!$E$10:$E$509,B13,'様式3i-2 入力用シート'!$I$10:$I$509,"✔") -> 0 | Q14: 点
D15: CI合計 | E15: =SUMIFS('様式3i-2 入力用シート'!$H$10:$H$509,'様式3i-2 入力用シート'!$E$10:$E$509,B13,'様式3i-2 入力用シート'!$F$10:$F$509,$E$4) -> 0 | F15: 点 | G15: =SUMIFS('様式3i-2 入力用シート'!$H$10:$H$509,'様式3i-2 入力用シート'!$E$10:$E$509,B13,'様式3i-2 入力用シート'!$F$10:$F$509,$G$4) -> 0 | H15: 点 | I15: =SUMIFS('様式3i-2 入力用シート'!$H$10:$H$509,'様式3i-2 入力用シート'!$E$10:$E$509,B13,'様式3i-2 入力用シート'!$F$10:$F$509,$I$4) -> 0 | J15: 点 | K15: =SUMIFS('様式3i-2 入力用シート'!$H$10:$H$509,'様式3i-2 入力用シート'!$E$10:$E$509,B13,'様式3i-2 入力用シート'!$F$10:$F$509,$K$4) -> 0 | L15: 点 | M15: =E15+G15+I15+K15 -> 0 | N15: 点 | P15: =SUMIFS('様式3i-2 入力用シート'!$H$10:$H$509,'様式3i-2 入力用シート'!$E$10:$E$509,B13,'様式3i-2 入力用シート'!$I$10:$I$509,"✔") -> 0 | Q15: 点
B16: 2006年 | D16: 編 数 | E16: =COUNTIFS('様式3i-2 入力用シート'!$E$10:$E$509,B16,'様式3i-2 入力用シート'!$F$10:$F$509,$E$4) -> 0 | F16: 編 | G16: =COUNTIFS('様式3i-2 入力用シート'!$E$10:$E$509,B16,'様式3i-2 入力用シート'!$F$10:$F$509,$G$4) -> 0 | H16: 編 | I16: =COUNTIFS('様式3i-2 入力用シート'!$E$10:$E$509,B16,'様式3i-2 入力用シート'!$F$10:$F$509,$I$4) -> 0 | J16: 編 | K16: =COUNTIFS('様式3i-2 入力用シート'!$E$10:$E$509,B16,'様式3i-2 入力用シート'!$F$10:$F$509,$K$4) -> 0 | L16: 編 | M16: =E16+G16+I16+K16 -> 0 | N16: 編 | P16: =COUNTIFS('様式3i-2 入力用シート'!$E$10:$E$509,B16,'様式3i-2 入力用シート'!$I$10:$I$509,"✔") -> 0 | Q16: 編
D17: IF合計 | E17: =SUMIFS('様式3i-2 入力用シート'!$G$10:$G$509,'様式3i-2 入力用シート'!$E$10:$E$509,B16,'様式3i-2 入力用シート'!$F$10:$F$509,$E$4) -> 0 | F17: 点 | G17: =SUMIFS('様式3i-2 入力用シート'!$G$10:$G$509,'様式3i-2 入力用シート'!$E$10:$E$509,B16,'様式3i-2 入力用シート'!$F$10:$F$509,$G$4) -> 0 | H17: 点 | I17: =SUMIFS('様式3i-2 入力用シート'!$G$10:$G$509,'様式3i-2 入力用シート'!$E$10:$E$509,B16,'様式3i-2 入力用シート'!$F$10:$F$509,$I$4) -> 0 | J17: 点 | K17: =SUMIFS('様式3i-2 入力用シート'!$G$10:$G$509,'様式3i-2 入力用シート'!$E$10:$E$509,B16,'様式3i-2 入力用シート'!$F$10:$F$509,$K$4) -> 0 | L17: 点 | M17: =E17+G17+I17+K17 -> 0 | N17: 点 | P17: =SUMIFS('様式3i-2 入力用シート'!$G$10:$G$509,'様式3i-2 入力用シート'!$E$10:$E$509,B16,'様式3i-2 入力用シート'!$I$10:$I$509,"✔") -> 0 | Q17: 点
D18: CI合計 | E18: =SUMIFS('様式3i-2 入力用シート'!$H$10:$H$509,'様式3i-2 入力用シート'!$E$10:$E$509,B16,'様式3i-2 入力用シート'!$F$10:$F$509,$E$4) -> 0 | F18: 点 | G18: =SUMIFS('様式3i-2 入力用シート'!$H$10:$H$509,'様式3i-2 入力用シート'!$E$10:$E$509,B16,'様式3i-2 入力用シート'!$F$10:$F$509,$G$4) -> 0 | H18: 点 | I18: =SUMIFS('様式3i-2 入力用シート'!$H$10:$H$509,'様式3i-2 入力用シート'!$E$10:$E$509,B16,'様式3i-2 入力用シート'!$F$10:$F$509,$I$4) -> 0 | J18: 点 | K18: =SUMIFS('様式3i-2 入力用シート'!$H$10:$H$509,'様式3i-2 入力用シート'!$E$10:$E$509,B16,'様式3i-2 入力用シート'!$F$10:$F$509,$K$4) -> 0 | L18: 点 | M18: =E18+G18+I18+K18 -> 0 | N18: 点 | P18: =SUMIFS('様式3i-2 入力用シート'!$H$10:$H$509,'様式3i-2 入力用シート'!$E$10:$E$509,B16,'様式3i-2 入力用シート'!$I$10:$I$509,"✔") -> 0 | Q18: 点
B19: 2007年 | D19: 編 数 | E19: =COUNTIFS('様式3i-2 入力用シート'!$E$10:$E$509,B19,'様式3i-2 入力用シート'!$F$10:$F$509,$E$4) -> 0 | F19: 編 | G19: =COUNTIFS('様式3i-2 入力用シート'!$E$10:$E$509,B19,'様式3i-2 入力用シート'!$F$10:$F$509,$G$4) -> 0 | H19: 編 | I19: =COUNTIFS('様式3i-2 入力用シート'!$E$10:$E$509,B19,'様式3i-2 入力用シート'!$F$10:$F$509,$I$4) -> 0 | J19: 編 | K19: =COUNTIFS('様式3i-2 入力用シート'!$E$10:$E$509,B19,'様式3i-2 入力用シート'!$F$10:$F$509,$K$4) -> 0 | L19: 編 | M19: =E19+G19+I19+K19 -> 0 | N19: 編 | P19: =COUNTIFS('様式3i-2 入力用シート'!$E$10:$E$509,B19,'様式3i-2 入力用シート'!$I$10:$I$509,"✔") -> 0 | Q19: 編
D20: IF合計 | E20: =SUMIFS('様式3i-2 入力用シート'!$G$10:$G$509,'様式3i-2 入力用シート'!$E$10:$E$509,B19,'様式3i-2 入力用シート'!$F$10:$F$509,$E$4) -> 0 | F20: 点 | G20: =SUMIFS('様式3i-2 入力用シート'!$G$10:$G$509,'様式3i-2 入力用シート'!$E$10:$E$509,B19,'様式3i-2 入力用シート'!$F$10:$F$509,$G$4) -> 0 | H20: 点 | I20: =SUMIFS('様式3i-2 入力用シート'!$G$10:$G$509,'様式3i-2 入力用シート'!$E$10:$E$509,B19,'様式3i-2 入力用シート'!$F$10:$F$509,$I$4) -> 0 | J20: 点 | K20: =SUMIFS('様式3i-2 入力用シート'!$G$10:$G$509,'様式3i-2 入力用シート'!$E$10:$E$509,B19,'様式3i-2 入力用シート'!$F$10:$F$509,$K$4) -> 0 | L20: 点 | M20: =E20+G20+I20+K20 -> 0 | N20: 点 | P20: =SUMIFS('様式3i-2 入力用シート'!$G$10:$G$509,'様式3i-2 入力用シート'!$E$10:$E$509,B19,'様式3i-2 入力用シート'!$I$10:$I$509,"✔") -> 0 | Q20: 点
D21: CI合計 | E21: =SUMIFS('様式3i-2 入力用シート'!$H$10:$H$509,'様式3i-2 入力用シート'!$E$10:$E$509,B19,'様式3i-2 入力用シート'!$F$10:$F$509,$E$4) -> 0 | F21: 点 | G21: =SUMIFS('様式3i-2 入力用シート'!$H$10:$H$509,'様式3i-2 入力用シート'!$E$10:$E$509,B19,'様式3i-2 入力用シート'!$F$10:$F$509,$G$4) -> 0 | H21: 点 | I21: =SUMIFS('様式3i-2 入力用シート'!$H$10:$H$509,'様式3i-2 入力用シート'!$E$10:$E$509,B19,'様式3i-2 入力用シート'!$F$10:$F$509,$I$4) -> 0 | J21: 点 | K21: =SUMIFS('様式3i-2 入力用シート'!$H$10:$H$509,'様式3i-2 入力用シート'!$E$10:$E$509,B19,'様式3i-2 入力用シート'!$F$10:$F$509,$K$4) -> 0 | L21: 点 | M21: =E21+G21+I21+K21 -> 0 | N21: 点 | P21: =SUMIFS('様式3i-2 入力用シート'!$H$10:$H$509,'様式3i-2 入力用シート'!$E$10:$E$509,B19,'様式3i-2 入力用シート'!$I$10:$I$509,"✔") -> 0 | Q21: 点
B22: 2008年 | D22: 編 数 | E22: =COUNTIFS('様式3i-2 入力用シート'!$E$10:$E$509,B22,'様式3i-2 入力用シート'!$F$10:$F$509,$E$4) -> 0 | F22: 編 | G22: =COUNTIFS('様式3i-2 入力用シート'!$E$10:$E$509,B22,'様式3i-2 入力用シート'!$F$10:$F$509,$G$4) -> 0 | H22: 編 | I22: =COUNTIFS('様式3i-2 入力用シート'!$E$10:$E$509,B22,'様式3i-2 入力用シート'!$F$10:$F$509,$I$4) -> 0 | J22: 編 | K22: =COUNTIFS('様式3i-2 入力用シート'!$E$10:$E$509,B22,'様式3i-2 入力用シート'!$F$10:$F$509,$K$4) -> 0 | L22: 編 | M22: =E22+G22+I22+K22 -> 0 | N22: 編 | P22: =COUNTIFS('様式3i-2 入力用シート'!$E$10:$E$509,B22,'様式3i-2 入力用シート'!$I$10:$I$509,"✔") -> 0 | Q22: 編
D23: IF合計 | E23: =SUMIFS('様式3i-2 入力用シート'!$G$10:$G$509,'様式3i-2 入力用シート'!$E$10:$E$509,B22,'様式3i-2 入力用シート'!$F$10:$F$509,$E$4) -> 0 | F23: 点 | G23: =SUMIFS('様式3i-2 入力用シート'!$G$10:$G$509,'様式3i-2 入力用シート'!$E$10:$E$509,B22,'様式3i-2 入力用シート'!$F$10:$F$509,$G$4) -> 0 | H23: 点 | I23: =SUMIFS('様式3i-2 入力用シート'!$G$10:$G$509,'様式3i-2 入力用シート'!$E$10:$E$509,B22,'様式3i-2 入力用シート'!$F$10:$F$509,$I$4) -> 0 | J23: 点 | K23: =SUMIFS('様式3i-2 入力用シート'!$G$10:$G$509,'様式3i-2 入力用シート'!$E$10:$E$509,B22,'様式3i-2 入力用シート'!$F$10:$F$509,$K$4) -> 0 | L23: 点 | M23: =E23+G23+I23+K23 -> 0 | N23: 点 | P23: =SUMIFS('様式3i-2 入力用シート'!$G$10:$G$509,'様式3i-2 入力用シート'!$E$10:$E$509,B22,'様式3i-2 入力用シート'!$I$10:$I$509,"✔") -> 0 | Q23: 点
D24: CI合計 | E24: =SUMIFS('様式3i-2 入力用シート'!$H$10:$H$509,'様式3i-2 入力用シート'!$E$10:$E$509,B22,'様式3i-2 入力用シート'!$F$10:$F$509,$E$4) -> 0 | F24: 点 | G24: =SUMIFS('様式3i-2 入力用シート'!$H$10:$H$509,'様式3i-2 入力用シート'!$E$10:$E$509,B22,'様式3i-2 入力用シート'!$F$10:$F$509,$G$4) -> 0 | H24: 点 | I24: =SUMIFS('様式3i-2 入力用シート'!$H$10:$H$509,'様式3i-2 入力用シート'!$E$10:$E$509,B22,'様式3i-2 入力用シート'!$F$10:$F$509,$I$4) -> 0 | J24: 点 | K24: =SUMIFS('様式3i-2 入力用シート'!$H$10:$H$509,'様式3i-2 入力用シート'!$E$10:$E$509,B22,'様式3i-2 入力用シート'!$F$10:$F$509,$K$4) -> 0 | L24: 点 | M24: =E24+G24+I24+K24 -> 0 | N24: 点 | P24: =SUMIFS('様式3i-2 入力用シート'!$H$10:$H$509,'様式3i-2 入力用シート'!$E$10:$E$509,B22,'様式3i-2 入力用シート'!$I$10:$I$509,"✔") -> 0 | Q24: 点
B25: 2009年 | D25: 編 数 | E25: =COUNTIFS('様式3i-2 入力用シート'!$E$10:$E$509,B25,'様式3i-2 入力用シート'!$F$10:$F$509,$E$4) -> 0 | F25: 編 | G25: =COUNTIFS('様式3i-2 入力用シート'!$E$10:$E$509,B25,'様式3i-2 入力用シート'!$F$10:$F$509,$G$4) -> 0 | H25: 編 | I25: =COUNTIFS('様式3i-2 入力用シート'!$E$10:$E$509,B25,'様式3i-2 入力用シート'!$F$10:$F$509,$I$4) -> 0 | J25: 編 | K25: =COUNTIFS('様式3i-2 入力用シート'!$E$10:$E$509,B25,'様式3i-2 入力用シート'!$F$10:$F$509,$K$4) -> 0 | L25: 編 | M25: =E25+G25+I25+K25 -> 0 | N25: 編 | P25: =COUNTIFS('様式3i-2 入力用シート'!$E$10:$E$509,B25,'様式3i-2 入力用シート'!$I$10:$I$509,"✔") -> 0 | Q25: 編
D26: IF合計 | E26: =SUMIFS('様式3i-2 入力用シート'!$G$10:$G$509,'様式3i-2 入力用シート'!$E$10:$E$509,B25,'様式3i-2 入力用シート'!$F$10:$F$509,$E$4) -> 0 | F26: 点 | G26: =SUMIFS('様式3i-2 入力用シート'!$G$10:$G$509,'様式3i-2 入力用シート'!$E$10:$E$509,B25,'様式3i-2 入力用シート'!$F$10:$F$509,$G$4) -> 0 | H26: 点 | I26: =SUMIFS('様式3i-2 入力用シート'!$G$10:$G$509,'様式3i-2 入力用シート'!$E$10:$E$509,B25,'様式3i-2 入力用シート'!$F$10:$F$509,$I$4) -> 0 | J26: 点 | K26: =SUMIFS('様式3i-2 入力用シート'!$G$10:$G$509,'様式3i-2 入力用シート'!$E$10:$E$509,B25,'様式3i-2 入力用シート'!$F$10:$F$509,$K$4) -> 0 | L26: 点 | M26: =E26+G26+I26+K26 -> 0 | N26: 点 | P26: =SUMIFS('様式3i-2 入力用シート'!$G$10:$G$509,'様式3i-2 入力用シート'!$E$10:$E$509,B25,'様式3i-2 入力用シート'!$I$10:$I$509,"✔") -> 0 | Q26: 点
D27: CI合計 | E27: =SUMIFS('様式3i-2 入力用シート'!$H$10:$H$509,'様式3i-2 入力用シート'!$E$10:$E$509,B25,'様式3i-2 入力用シート'!$F$10:$F$509,$E$4) -> 0 | F27: 点 | G27: =SUMIFS('様式3i-2 入力用シート'!$H$10:$H$509,'様式3i-2 入力用シート'!$E$10:$E$509,B25,'様式3i-2 入力用シート'!$F$10:$F$509,$G$4) -> 0 | H27: 点 | I27: =SUMIFS('様式3i-2 入力用シート'!$H$10:$H$509,'様式3i-2 入力用シート'!$E$10:$E$509,B25,'様式3i-2 入力用シート'!$F$10:$F$509,$I$4) -> 0 | J27: 点 | K27: =SUMIFS('様式3i-2 入力用シート'!$H$10:$H$509,'様式3i-2 入力用シート'!$E$10:$E$509,B25,'様式3i-2 入力用シート'!$F$10:$F$509,$K$4) -> 0 | L27: 点 | M27: =E27+G27+I27+K27 -> 0 | N27: 点 | P27: =SUMIFS('様式3i-2 入力用シート'!$H$10:$H$509,'様式3i-2 入力用シート'!$E$10:$E$509,B25,'様式3i-2 入力用シート'!$I$10:$I$509,"✔") -> 0 | Q27: 点
B28: 2010年 | D28: 編 数 | E28: =COUNTIFS('様式3i-2 入力用シート'!$E$10:$E$509,B28,'様式3i-2 入力用シート'!$F$10:$F$509,$E$4) -> 0 | F28: 編 | G28: =COUNTIFS('様式3i-2 入力用シート'!$E$10:$E$509,B28,'様式3i-2 入力用シート'!$F$10:$F$509,$G$4) -> 0 | H28: 編 | I28: =COUNTIFS('様式3i-2 入力用シート'!$E$10:$E$509,B28,'様式3i-2 入力用シート'!$F$10:$F$509,$I$4) -> 0 | J28: 編 | K28: =COUNTIFS('様式3i-2 入力用シート'!$E$10:$E$509,B28,'様式3i-2 入力用シート'!$F$10:$F$509,$K$4) -> 0 | L28: 編 | M28: =E28+G28+I28+K28 -> 0 | N28: 編 | P28: =COUNTIFS('様式3i-2 入力用シート'!$E$10:$E$509,B28,'様式3i-2 入力用シート'!$I$10:$I$509,"✔") -> 0 | Q28: 編
D29: IF合計 | E29: =SUMIFS('様式3i-2 入力用シート'!$G$10:$G$509,'様式3i-2 入力用シート'!$E$10:$E$509,B28,'様式3i-2 入力用シート'!$F$10:$F$509,$E$4) -> 0 | F29: 点 | G29: =SUMIFS('様式3i-2 入力用シート'!$G$10:$G$509,'様式3i-2 入力用シート'!$E$10:$E$509,B28,'様式3i-2 入力用シート'!$F$10:$F$509,$G$4) -> 0 | H29: 点 | I29: =SUMIFS('様式3i-2 入力用シート'!$G$10:$G$509,'様式3i-2 入力用シート'!$E$10:$E$509,B28,'様式3i-2 入力用シート'!$F$10:$F$509,$I$4) -> 0 | J29: 点 | K29: =SUMIFS('様式3i-2 入力用シート'!$G$10:$G$509,'様式3i-2 入力用シート'!$E$10:$E$509,B28,'様式3i-2 入力用シート'!$F$10:$F$509,$K$4) -> 0 | L29: 点 | M29: =E29+G29+I29+K29 -> 0 | N29: 点 | P29: =SUMIFS('様式3i-2 入力用シート'!$G$10:$G$509,'様式3i-2 入力用シート'!$E$10:$E$509,B28,'様式3i-2 入力用シート'!$I$10:$I$509,"✔") -> 0 | Q29: 点
D30: CI合計 | E30: =SUMIFS('様式3i-2 入力用シート'!$H$10:$H$509,'様式3i-2 入力用シート'!$E$10:$E$509,B28,'様式3i-2 入力用シート'!$F$10:$F$509,$E$4) -> 0 | F30: 点 | G30: =SUMIFS('様式3i-2 入力用シート'!$H$10:$H$509,'様式3i-2 入力用シート'!$E$10:$E$509,B28,'様式3i-2 入力用シート'!$F$10:$F$509,$G$4) -> 0 | H30: 点 | I30: =SUMIFS('様式3i-2 入力用シート'!$H$10:$H$509,'様式3i-2 入力用シート'!$E$10:$E$509,B28,'様式3i-2 入力用シート'!$F$10:$F$509,$I$4) -> 0 | J30: 点 | K30: =SUMIFS('様式3i-2 入力用シート'!$H$10:$H$509,'様式3i-2 入力用シート'!$E$10:$E$509,B28,'様式3i-2 入力用シート'!$F$10:$F$509,$K$4) -> 0 | L30: 点 | M30: =E30+G30+I30+K30 -> 0 | N30: 点 | P30: =SUMIFS('様式3i-2 入力用シート'!$H$10:$H$509,'様式3i-2 入力用シート'!$E$10:$E$509,B28,'様式3i-2 入力用シート'!$I$10:$I$509,"✔") -> 0 | Q30: 点
B31: 2011年 | D31: 編 数 | E31: =COUNTIFS('様式3i-2 入力用シート'!$E$10:$E$509,B31,'様式3i-2 入力用シート'!$F$10:$F$509,$E$4) -> 0 | F31: 編 | G31: =COUNTIFS('様式3i-2 入力用シート'!$E$10:$E$509,B31,'様式3i-2 入力用シート'!$F$10:$F$509,$G$4) -> 0 | H31: 編 | I31: =COUNTIFS('様式3i-2 入力用シート'!$E$10:$E$509,B31,'様式3i-2 入力用シート'!$F$10:$F$509,$I$4) -> 0 | J31: 編 | K31: =COUNTIFS('様式3i-2 入力用シート'!$E$10:$E$509,B31,'様式3i-2 入力用シート'!$F$10:$F$509,$K$4) -> 0 | L31: 編 | M31: =E31+G31+I31+K31 -> 0 | N31: 編 | P31: =COUNTIFS('様式3i-2 入力用シート'!$E$10:$E$509,B31,'様式3i-2 入力用シート'!$I$10:$I$509,"✔") -> 0 | Q31: 編
D32: IF合計 | E32: =SUMIFS('様式3i-2 入力用シート'!$G$10:$G$509,'様式3i-2 入力用シート'!$E$10:$E$509,B31,'様式3i-2 入力用シート'!$F$10:$F$509,$E$4) -> 0 | F32: 点 | G32: =SUMIFS('様式3i-2 入力用シート'!$G$10:$G$509,'様式3i-2 入力用シート'!$E$10:$E$509,B31,'様式3i-2 入力用シート'!$F$10:$F$509,$G$4) -> 0 | H32: 点 | I32: =SUMIFS('様式3i-2 入力用シート'!$G$10:$G$509,'様式3i-2 入力用シート'!$E$10:$E$509,B31,'様式3i-2 入力用シート'!$F$10:$F$509,$I$4) -> 0 | J32: 点 | K32: =SUMIFS('様式3i-2 入力用シート'!$G$10:$G$509,'様式3i-2 入力用シート'!$E$10:$E$509,B31,'様式3i-2 入力用シート'!$F$10:$F$509,$K$4) -> 0 | L32: 点 | M32: =E32+G32+I32+K32 -> 0 | N32: 点 | P32: =SUMIFS('様式3i-2 入力用シート'!$G$10:$G$509,'様式3i-2 入力用シート'!$E$10:$E$509,B31,'様式3i-2 入力用シート'!$I$10:$I$509,"✔") -> 0 | Q32: 点
D33: CI合計 | E33: =SUMIFS('様式3i-2 入力用シート'!$H$10:$H$509,'様式3i-2 入力用シート'!$E$10:$E$509,B31,'様式3i-2 入力用シート'!$F$10:$F$509,$E$4) -> 0 | F33: 点 | G33: =SUMIFS('様式3i-2 入力用シート'!$H$10:$H$509,'様式3i-2 入力用シート'!$E$10:$E$509,B31,'様式3i-2 入力用シート'!$F$10:$F$509,$G$4) -> 0 | H33: 点 | I33: =SUMIFS('様式3i-2 入力用シート'!$H$10:$H$509,'様式3i-2 入力用シート'!$E$10:$E$509,B31,'様式3i-2 入力用シート'!$F$10:$F$509,$I$4) -> 0 | J33: 点 | K33: =SUMIFS('様式3i-2 入力用シート'!$H$10:$H$509,'様式3i-2 入力用シート'!$E$10:$E$509,B31,'様式3i-2 入力用シート'!$F$10:$F$509,$K$4) -> 0 | L33: 点 | M33: =E33+G33+I33+K33 -> 0 | N33: 点 | P33: =SUMIFS('様式3i-2 入力用シート'!$H$10:$H$509,'様式3i-2 入力用シート'!$E$10:$E$509,B31,'様式3i-2 入力用シート'!$I$10:$I$509,"✔") -> 0 | Q33: 点
B34: 2012年 | D34: 編 数 | E34: =COUNTIFS('様式3i-2 入力用シート'!$E$10:$E$509,B34,'様式3i-2 入力用シート'!$F$10:$F$509,$E$4) -> 0 | F34: 編 | G34: =COUNTIFS('様式3i-2 入力用シート'!$E$10:$E$509,B34,'様式3i-2 入力用シート'!$F$10:$F$509,$G$4) -> 0 | H34: 編 | I34: =COUNTIFS('様式3i-2 入力用シート'!$E$10:$E$509,B34,'様式3i-2 入力用シート'!$F$10:$F$509,$I$4) -> 0 | J34: 編 | K34: =COUNTIFS('様式3i-2 入力用シート'!$E$10:$E$509,B34,'様式3i-2 入力用シート'!$F$10:$F$509,$K$4) -> 0 | L34: 編 | M34: =E34+G34+I34+K34 -> 0 | N34: 編 | P34: =COUNTIFS('様式3i-2 入力用シート'!$E$10:$E$509,B34,'様式3i-2 入力用シート'!$I$10:$I$509,"✔") -> 0 | Q34: 編
D35: IF合計 | E35: =SUMIFS('様式3i-2 入力用シート'!$G$10:$G$509,'様式3i-2 入力用シート'!$E$10:$E$509,B34,'様式3i-2 入力用シート'!$F$10:$F$509,$E$4) -> 0 | F35: 点 | G35: =SUMIFS('様式3i-2 入力用シート'!$G$10:$G$509,'様式3i-2 入力用シート'!$E$10:$E$509,B34,'様式3i-2 入力用シート'!$F$10:$F$509,$G$4) -> 0 | H35: 点 | I35: =SUMIFS('様式3i-2 入力用シート'!$G$10:$G$509,'様式3i-2 入力用シート'!$E$10:$E$509,B34,'様式3i-2 入力用シート'!$F$10:$F$509,$I$4) -> 0 | J35: 点 | K35: =SUMIFS('様式3i-2 入力用シート'!$G$10:$G$509,'様式3i-2 入力用シート'!$E$10:$E$509,B34,'様式3i-2 入力用シート'!$F$10:$F$509,$K$4) -> 0 | L35: 点 | M35: =E35+G35+I35+K35 -> 0 | N35: 点 | P35: =SUMIFS('様式3i-2 入力用シート'!$G$10:$G$509,'様式3i-2 入力用シート'!$E$10:$E$509,B34,'様式3i-2 入力用シート'!$I$10:$I$509,"✔") -> 0 | Q35: 点
D36: CI合計 | E36: =SUMIFS('様式3i-2 入力用シート'!$H$10:$H$509,'様式3i-2 入力用シート'!$E$10:$E$509,B34,'様式3i-2 入力用シート'!$F$10:$F$509,$E$4) -> 0 | F36: 点 | G36: =SUMIFS('様式3i-2 入力用シート'!$H$10:$H$509,'様式3i-2 入力用シート'!$E$10:$E$509,B34,'様式3i-2 入力用シート'!$F$10:$F$509,$G$4) -> 0 | H36: 点 | I36: =SUMIFS('様式3i-2 入力用シート'!$H$10:$H$509,'様式3i-2 入力用シート'!$E$10:$E$509,B34,'様式3i-2 入力用シート'!$F$10:$F$509,$I$4) -> 0 | J36: 点 | K36: =SUMIFS('様式3i-2 入力用シート'!$H$10:$H$509,'様式3i-2 入力用シート'!$E$10:$E$509,B34,'様式3i-2 入力用シート'!$F$10:$F$509,$K$4) -> 0 | L36: 点 | M36: =E36+G36+I36+K36 -> 0 | N36: 点 | P36: =SUMIFS('様式3i-2 入力用シート'!$H$10:$H$509,'様式3i-2 入力用シート'!$E$10:$E$509,B34,'様式3i-2 入力用シート'!$I$10:$I$509,"✔") -> 0 | Q36: 点
B37: 2013年 | D37: 編 数 | E37: =COUNTIFS('様式3i-2 入力用シート'!$E$10:$E$509,B37,'様式3i-2 入力用シート'!$F$10:$F$509,$E$4) -> 0 | F37: 編 | G37: =COUNTIFS('様式3i-2 入力用シート'!$E$10:$E$509,B37,'様式3i-2 入力用シート'!$F$10:$F$509,$G$4) -> 0 | H37: 編 | I37: =COUNTIFS('様式3i-2 入力用シート'!$E$10:$E$509,B37,'様式3i-2 入力用シート'!$F$10:$F$509,$I$4) -> 0 | J37: 編 | K37: =COUNTIFS('様式3i-2 入力用シート'!$E$10:$E$509,B37,'様式3i-2 入力用シート'!$F$10:$F$509,$K$4) -> 0 | L37: 編 | M37: =E37+G37+I37+K37 -> 0 | N37: 編 | P37: =COUNTIFS('様式3i-2 入力用シート'!$E$10:$E$509,B37,'様式3i-2 入力用シート'!$I$10:$I$509,"✔") -> 0 | Q37: 編
D38: IF合計 | E38: =SUMIFS('様式3i-2 入力用シート'!$G$10:$G$509,'様式3i-2 入力用シート'!$E$10:$E$509,B37,'様式3i-2 入力用シート'!$F$10:$F$509,$E$4) -> 0 | F38: 点 | G38: =SUMIFS('様式3i-2 入力用シート'!$G$10:$G$509,'様式3i-2 入力用シート'!$E$10:$E$509,B37,'様式3i-2 入力用シート'!$F$10:$F$509,$G$4) -> 0 | H38: 点 | I38: =SUMIFS('様式3i-2 入力用シート'!$G$10:$G$509,'様式3i-2 入力用シート'!$E$10:$E$509,B37,'様式3i-2 入力用シート'!$F$10:$F$509,$I$4) -> 0 | J38: 点 | K38: =SUMIFS('様式3i-2 入力用シート'!$G$10:$G$509,'様式3i-2 入力用シート'!$E$10:$E$509,B37,'様式3i-2 入力用シート'!$F$10:$F$509,$K$4) -> 0 | L38: 点 | M38: =E38+G38+I38+K38 -> 0 | N38: 点 | P38: =SUMIFS('様式3i-2 入力用シート'!$G$10:$G$509,'様式3i-2 入力用シート'!$E$10:$E$509,B37,'様式3i-2 入力用シート'!$I$10:$I$509,"✔") -> 0 | Q38: 点
D39: CI合計 | E39: =SUMIFS('様式3i-2 入力用シート'!$H$10:$H$509,'様式3i-2 入力用シート'!$E$10:$E$509,B37,'様式3i-2 入力用シート'!$F$10:$F$509,$E$4) -> 0 | F39: 点 | G39: =SUMIFS('様式3i-2 入力用シート'!$H$10:$H$509,'様式3i-2 入力用シート'!$E$10:$E$509,B37,'様式3i-2 入力用シート'!$F$10:$F$509,$G$4) -> 0 | H39: 点 | I39: =SUMIFS('様式3i-2 入力用シート'!$H$10:$H$509,'様式3i-2 入力用シート'!$E$10:$E$509,B37,'様式3i-2 入力用シート'!$F$10:$F$509,$I$4) -> 0 | J39: 点 | K39: =SUMIFS('様式3i-2 入力用シート'!$H$10:$H$509,'様式3i-2 入力用シート'!$E$10:$E$509,B37,'様式3i-2 入力用シート'!$F$10:$F$509,$K$4) -> 0 | L39: 点 | M39: =E39+G39+I39+K39 -> 0 | N39: 点 | P39: =SUMIFS('様式3i-2 入力用シート'!$H$10:$H$509,'様式3i-2 入力用シート'!$E$10:$E$509,B37,'様式3i-2 入力用シート'!$I$10:$I$509,"✔") -> 0 | Q39: 点
B40: 2014年 | D40: 編 数 | E40: =COUNTIFS('様式3i-2 入力用シート'!$E$10:$E$509,B40,'様式3i-2 入力用シート'!$F$10:$F$509,$E$4) -> 0 | F40: 編 | G40: =COUNTIFS('様式3i-2 入力用シート'!$E$10:$E$509,B40,'様式3i-2 入力用シート'!$F$10:$F$509,$G$4) -> 0 | H40: 編 | I40: =COUNTIFS('様式3i-2 入力用シート'!$E$10:$E$509,B40,'様式3i-2 入力用シート'!$F$10:$F$509,$I$4) -> 0 | J40: 編 | K40: =COUNTIFS('様式3i-2 入力用シート'!$E$10:$E$509,B40,'様式3i-2 入力用シート'!$F$10:$F$509,$K$4) -> 0 | L40: 編 | M40: =E40+G40+I40+K40 -> 0 | N40: 編 | P40: =COUNTIFS('様式3i-2 入力用シート'!$E$10:$E$509,B40,'様式3i-2 入力用シート'!$I$10:$I$509,"✔") -> 0 | Q40: 編
D41: IF合計 | E41: =SUMIFS('様式3i-2 入力用シート'!$G$10:$G$509,'様式3i-2 入力用シート'!$E$10:$E$509,B40,'様式3i-2 入力用シート'!$F$10:$F$509,$E$4) -> 0 | F41: 点 | G41: =SUMIFS('様式3i-2 入力用シート'!$G$10:$G$509,'様式3i-2 入力用シート'!$E$10:$E$509,B40,'様式3i-2 入力用シート'!$F$10:$F$509,$G$4) -> 0 | H41: 点 | I41: =SUMIFS('様式3i-2 入力用シート'!$G$10:$G$509,'様式3i-2 入力用シート'!$E$10:$E$509,B40,'様式3i-2 入力用シート'!$F$10:$F$509,$I$4) -> 0 | J41: 点 | K41: =SUMIFS('様式3i-2 入力用シート'!$G$10:$G$509,'様式3i-2 入力用シート'!$E$10:$E$509,B40,'様式3i-2 入力用シート'!$F$10:$F$509,$K$4) -> 0 | L41: 点 | M41: =E41+G41+I41+K41 -> 0 | N41: 点 | P41: =SUMIFS('様式3i-2 入力用シート'!$G$10:$G$509,'様式3i-2 入力用シート'!$E$10:$E$509,B40,'様式3i-2 入力用シート'!$I$10:$I$509,"✔") -> 0 | Q41: 点
D42: CI合計 | E42: =SUMIFS('様式3i-2 入力用シート'!$H$10:$H$509,'様式3i-2 入力用シート'!$E$10:$E$509,B40,'様式3i-2 入力用シート'!$F$10:$F$509,$E$4) -> 0 | F42: 点 | G42: =SUMIFS('様式3i-2 入力用シート'!$H$10:$H$509,'様式3i-2 入力用シート'!$E$10:$E$509,B40,'様式3i-2 入力用シート'!$F$10:$F$509,$G$4) -> 0 | H42: 点 | I42: =SUMIFS('様式3i-2 入力用シート'!$H$10:$H$509,'様式3i-2 入力用シート'!$E$10:$E$509,B40,'様式3i-2 入力用シート'!$F$10:$F$509,$I$4) -> 0 | J42: 点 | K42: =SUMIFS('様式3i-2 入力用シート'!$H$10:$H$509,'様式3i-2 入力用シート'!$E$10:$E$509,B40,'様式3i-2 入力用シート'!$F$10:$F$509,$K$4) -> 0 | L42: 点 | M42: =E42+G42+I42+K42 -> 0 | N42: 点 | P42: =SUMIFS('様式3i-2 入力用シート'!$H$10:$H$509,'様式3i-2 入力用シート'!$E$10:$E$509,B40,'様式3i-2 入力用シート'!$I$10:$I$509,"✔") -> 0 | Q42: 点
...

Sheet 様式3i-2 入力用シート
B1: 様式3i-2 入力用シート（英文の原著及び総説） | F1: 氏名
D2: 〔業績集計表（提出用）へ自動集計されます〕 | F2: ページ数
D4: ＊ 業績目録は古い順に並べてください。
D5: ＊ IF・CLの入力は最新版（2022）でお願いします。
B6: 確認用合計 | C6: =COUNTIF(C10:C509,"○") -> 0 | D6: =IF(C6=10,"","← 主要論文は10個選んでください！！！ ") -> ← 主要論文は10個選んでください！！！ | F6: 確認用合計 | G6: =SUM(G10:G509) -> 0 | H6: =SUM(H10:H509) -> 0 | I6: =COUNTIF(I10:I509,"✔") -> 0 | AI6: ○ | AK6: 筆頭 | AL6: ✔
B7: 連番 | C7: 主要 論文 ( ○ ) 10個 選択 | D7: Full Journal Title （正式名称入力） | E7: 年 （ 選択 ） | F7: 著者順 （ 選択 ） | G7: IF (値入力）小数点3位まで | H7: CI (値入力） | I7: コレスポンディング オーサー （ ✔ ） | AJ7: 2003年以前 | AK7: ２nd
AJ8: 2004年 | AK8: ラスト
P9: 筆頭 | Q9: ２nd | R9: ラスト | S9: それ以外 | T9: コレスポンディング オーサー （ ✔ ） | U9: 筆頭 | V9: ２nd | W9: ラスト | X9: それ以外 | Y9: コレスポンディング オーサー （ ✔ ） | AJ9: 2005年 | AK9: それ以外
B10: 1 | O10: 2003年以前 | P10: =COUNTIFS(E:E,O10,F:F,$P$9) -> 0 | Q10: =COUNTIFS(E:E,O10,F:F,$Q$9) -> 0 | R10: =COUNTIFS(E:E,O10,F:F,$R$9) -> 0 | S10: =COUNTIFS(E:E,O10,F:F,$S$9) -> 0 | T10: =COUNTIFS(E:E,O10,I:I,"✔") -> 0 | U10: =SUMIFS($G$10:$G$509,$E$10:$E$509,O10,$F$10:$F$509,$U$9) -> 0 | V10: =SUMIFS($G$10:$G$509,$E$10:$E$509,O10,$F$10:$F$509,$V$9) -> 0 | W10: =SUMIFS($G$10:$G$509,$E$10:$E$509,O10,$F$10:$F$509,$W$9) -> 0 | X10: =SUMIFS($G$10:$G$509,$E$10:$E$509,O10,$F$10:$F$509,$X$9) -> 0 | Y10: =SUMIFS($G$10:$G$509,$E$10:$E$509,O10,$I$10:$I$509,"✔") -> 0 | AJ10: 2006年
B11: 2 | O11: 2004年 | P11: =COUNTIFS(E:E,O11,F:F,$P$9) -> 0 | Q11: =COUNTIFS(E:E,O11,F:F,$Q$9) -> 0 | R11: =COUNTIFS(E:E,O11,F:F,$R$9) -> 0 | S11: =COUNTIFS(E:E,O11,F:F,$S$9) -> 0 | T11: =COUNTIFS(E:E,O11,I:I,"✔") -> 0 | U11: =SUMIFS($G$10:$G$509,$E$10:$E$509,O11,$F$10:$F$509,$U$9) -> 0 | V11: =SUMIFS($G$10:$G$509,$E$10:$E$509,O11,$F$10:$F$509,$V$9) -> 0 | W11: =SUMIFS($G$10:$G$509,$E$10:$E$509,O11,$F$10:$F$509,$W$9) -> 0 | X11: =SUMIFS($G$10:$G$509,$E$10:$E$509,O11,$F$10:$F$509,$X$9) -> 0 | Y11: =SUMIFS($G$10:$G$509,$E$10:$E$509,O11,$I$10:$I$509,"✔") -> 0 | AJ11: 2007年
B12: 3 | O12: 2005年 | P12: =COUNTIFS(E:E,O12,F:F,$P$9) -> 0 | Q12: =COUNTIFS(E:E,O12,F:F,$Q$9) -> 0 | R12: =COUNTIFS(E:E,O12,F:F,$R$9) -> 0 | S12: =COUNTIFS(E:E,O12,F:F,$S$9) -> 0 | T12: =COUNTIFS(E:E,O12,I:I,"✔") -> 0 | U12: =SUMIFS($G$10:$G$509,$E$10:$E$509,O12,$F$10:$F$509,$U$9) -> 0 | V12: =SUMIFS($G$10:$G$509,$E$10:$E$509,O12,$F$10:$F$509,$V$9) -> 0 | W12: =SUMIFS($G$10:$G$509,$E$10:$E$509,O12,$F$10:$F$509,$W$9) -> 0 | X12: =SUMIFS($G$10:$G$509,$E$10:$E$509,O12,$F$10:$F$509,$X$9) -> 0 | Y12: =SUMIFS($G$10:$G$509,$E$10:$E$509,O12,$I$10:$I$509,"✔") -> 0 | AJ12: 2008年
B13: 4 | O13: 2006年 | P13: =COUNTIFS(E:E,O13,F:F,$P$9) -> 0 | Q13: =COUNTIFS(E:E,O13,F:F,$Q$9) -> 0 | R13: =COUNTIFS(E:E,O13,F:F,$R$9) -> 0 | S13: =COUNTIFS(E:E,O13,F:F,$S$9) -> 0 | T13: =COUNTIFS(E:E,O13,I:I,"✔") -> 0 | U13: =SUMIFS($G$10:$G$509,$E$10:$E$509,O13,$F$10:$F$509,$U$9) -> 0 | V13: =SUMIFS($G$10:$G$509,$E$10:$E$509,O13,$F$10:$F$509,$V$9) -> 0 | W13: =SUMIFS($G$10:$G$509,$E$10:$E$509,O13,$F$10:$F$509,$W$9) -> 0 | X13: =SUMIFS($G$10:$G$509,$E$10:$E$509,O13,$F$10:$F$509,$X$9) -> 0 | Y13: =SUMIFS($G$10:$G$509,$E$10:$E$509,O13,$I$10:$I$509,"✔") -> 0 | AJ13: 2009年
B14: 5 | O14: 2007年 | P14: =COUNTIFS(E:E,O14,F:F,$P$9) -> 0 | Q14: =COUNTIFS(E:E,O14,F:F,$Q$9) -> 0 | R14: =COUNTIFS(E:E,O14,F:F,$R$9) -> 0 | S14: =COUNTIFS(E:E,O14,F:F,$S$9) -> 0 | T14: =COUNTIFS(E:E,O14,I:I,"✔") -> 0 | U14: =SUMIFS($G$10:$G$509,$E$10:$E$509,O14,$F$10:$F$509,$U$9) -> 0 | V14: =SUMIFS($G$10:$G$509,$E$10:$E$509,O14,$F$10:$F$509,$V$9) -> 0 | W14: =SUMIFS($G$10:$G$509,$E$10:$E$509,O14,$F$10:$F$509,$W$9) -> 0 | X14: =SUMIFS($G$10:$G$509,$E$10:$E$509,O14,$F$10:$F$509,$X$9) -> 0 | Y14: =SUMIFS($G$10:$G$509,$E$10:$E$509,O14,$I$10:$I$509,"✔") -> 0 | AJ14: 2010年
B15: 6 | O15: 2008年 | P15: =COUNTIFS(E:E,O15,F:F,$P$9) -> 0 | Q15: =COUNTIFS(E:E,O15,F:F,$Q$9) -> 0 | R15: =COUNTIFS(E:E,O15,F:F,$R$9) -> 0 | S15: =COUNTIFS(E:E,O15,F:F,$S$9) -> 0 | T15: =COUNTIFS(E:E,O15,I:I,"✔") -> 0 | U15: =SUMIFS($G$10:$G$509,$E$10:$E$509,O15,$F$10:$F$509,$U$9) -> 0 | V15: =SUMIFS($G$10:$G$509,$E$10:$E$509,O15,$F$10:$F$509,$V$9) -> 0 | W15: =SUMIFS($G$10:$G$509,$E$10:$E$509,O15,$F$10:$F$509,$W$9) -> 0 | X15: =SUMIFS($G$10:$G$509,$E$10:$E$509,O15,$F$10:$F$509,$X$9) -> 0 | Y15: =SUMIFS($G$10:$G$509,$E$10:$E$509,O15,$I$10:$I$509,"✔") -> 0 | AJ15: 2011年
B16: 7 | O16: 2009年 | P16: =COUNTIFS(E:E,O16,F:F,$P$9) -> 0 | Q16: =COUNTIFS(E:E,O16,F:F,$Q$9) -> 0 | R16: =COUNTIFS(E:E,O16,F:F,$R$9) -> 0 | S16: =COUNTIFS(E:E,O16,F:F,$S$9) -> 0 | T16: =COUNTIFS(E:E,O16,I:I,"✔") -> 0 | U16: =SUMIFS($G$10:$G$509,$E$10:$E$509,O16,$F$10:$F$509,$U$9) -> 0 | V16: =SUMIFS($G$10:$G$509,$E$10:$E$509,O16,$F$10:$F$509,$V$9) -> 0 | W16: =SUMIFS($G$10:$G$509,$E$10:$E$509,O16,$F$10:$F$509,$W$9) -> 0 | X16: =SUMIFS($G$10:$G$509,$E$10:$E$509,O16,$F$10:$F$509,$X$9) -> 0 | Y16: =SUMIFS($G$10:$G$509,$E$10:$E$509,O16,$I$10:$I$509,"✔") -> 0 | AJ16: 2012年
B17: 8 | O17: 2010年 | P17: =COUNTIFS(E:E,O17,F:F,$P$9) -> 0 | Q17: =COUNTIFS(E:E,O17,F:F,$Q$9) -> 0 | R17: =COUNTIFS(E:E,O17,F:F,$R$9) -> 0 | S17: =COUNTIFS(E:E,O17,F:F,$S$9) -> 0 | T17: =COUNTIFS(E:E,O17,I:I,"✔") -> 0 | U17: =SUMIFS($G$10:$G$509,$E$10:$E$509,O17,$F$10:$F$509,$U$9) -> 0 | V17: =SUMIFS($G$10:$G$509,$E$10:$E$509,O17,$F$10:$F$509,$V$9) -> 0 | W17: =SUMIFS($G$10:$G$509,$E$10:$E$509,O17,$F$10:$F$509,$W$9) -> 0 | X17: =SUMIFS($G$10:$G$509,$E$10:$E$509,O17,$F$10:$F$509,$X$9) -> 0 | Y17: =SUMIFS($G$10:$G$509,$E$10:$E$509,O17,$I$10:$I$509,"✔") -> 0 | AJ17: 2013年
B18: 9 | O18: 2011年 | P18: =COUNTIFS(E:E,O18,F:F,$P$9) -> 0 | Q18: =COUNTIFS(E:E,O18,F:F,$Q$9) -> 0 | R18: =COUNTIFS(E:E,O18,F:F,$R$9) -> 0 | S18: =COUNTIFS(E:E,O18,F:F,$S$9) -> 0 | T18: =COUNTIFS(E:E,O18,I:I,"✔") -> 0 | U18: =SUMIFS($G$10:$G$509,$E$10:$E$509,O18,$F$10:$F$509,$U$9) -> 0 | V18: =SUMIFS($G$10:$G$509,$E$10:$E$509,O18,$F$10:$F$509,$V$9) -> 0 | W18: =SUMIFS($G$10:$G$509,$E$10:$E$509,O18,$F$10:$F$509,$W$9) -> 0 | X18: =SUMIFS($G$10:$G$509,$E$10:$E$509,O18,$F$10:$F$509,$X$9) -> 0 | Y18: =SUMIFS($G$10:$G$509,$E$10:$E$509,O18,$I$10:$I$509,"✔") -> 0 | AJ18: 2014年
B19: 10 | O19: 2012年 | P19: =COUNTIFS(E:E,O19,F:F,$P$9) -> 0 | Q19: =COUNTIFS(E:E,O19,F:F,$Q$9) -> 0 | R19: =COUNTIFS(E:E,O19,F:F,$R$9) -> 0 | S19: =COUNTIFS(E:E,O19,F:F,$S$9) -> 0 | T19: =COUNTIFS(E:E,O19,I:I,"✔") -> 0 | U19: =SUMIFS($G$10:$G$509,$E$10:$E$509,O19,$F$10:$F$509,$U$9) -> 0 | V19: =SUMIFS($G$10:$G$509,$E$10:$E$509,O19,$F$10:$F$509,$V$9) -> 0 | W19: =SUMIFS($G$10:$G$509,$E$10:$E$509,O19,$F$10:$F$509,$W$9) -> 0 | X19: =SUMIFS($G$10:$G$509,$E$10:$E$509,O19,$F$10:$F$509,$X$9) -> 0 | Y19: =SUMIFS($G$10:$G$509,$E$10:$E$509,O19,$I$10:$I$509,"✔") -> 0 | AJ19: 2015年
B20: 11 | O20: 2013年 | P20: =COUNTIFS(E:E,O20,F:F,$P$9) -> 0 | Q20: =COUNTIFS(E:E,O20,F:F,$Q$9) -> 0 | R20: =COUNTIFS(E:E,O20,F:F,$R$9) -> 0 | S20: =COUNTIFS(E:E,O20,F:F,$S$9) -> 0 | T20: =COUNTIFS(E:E,O20,I:I,"✔") -> 0 | U20: =SUMIFS($G$10:$G$509,$E$10:$E$509,O20,$F$10:$F$509,$U$9) -> 0 | V20: =SUMIFS($G$10:$G$509,$E$10:$E$509,O20,$F$10:$F$509,$V$9) -> 0 | W20: =SUMIFS($G$10:$G$509,$E$10:$E$509,O20,$F$10:$F$509,$W$9) -> 0 | X20: =SUMIFS($G$10:$G$509,$E$10:$E$509,O20,$F$10:$F$509,$X$9) -> 0 | Y20: =SUMIFS($G$10:$G$509,$E$10:$E$509,O20,$I$10:$I$509,"✔") -> 0 | AJ20: 2016年
B21: 12 | O21: 2014年 | P21: =COUNTIFS(E:E,O21,F:F,$P$9) -> 0 | Q21: =COUNTIFS(E:E,O21,F:F,$Q$9) -> 0 | R21: =COUNTIFS(E:E,O21,F:F,$R$9) -> 0 | S21: =COUNTIFS(E:E,O21,F:F,$S$9) -> 0 | T21: =COUNTIFS(E:E,O21,I:I,"✔") -> 0 | U21: =SUMIFS($G$10:$G$509,$E$10:$E$509,O21,$F$10:$F$509,$U$9) -> 0 | V21: =SUMIFS($G$10:$G$509,$E$10:$E$509,O21,$F$10:$F$509,$V$9) -> 0 | W21: =SUMIFS($G$10:$G$509,$E$10:$E$509,O21,$F$10:$F$509,$W$9) -> 0 | X21: =SUMIFS($G$10:$G$509,$E$10:$E$509,O21,$F$10:$F$509,$X$9) -> 0 | Y21: =SUMIFS($G$10:$G$509,$E$10:$E$509,O21,$I$10:$I$509,"✔") -> 0 | AJ21: 2017年
... B27: 18 | O27: 2020年 | P27: =COUNTIFS(E:E,O27,F:F,$P$9) -> 0 | Q27: =COUNTIFS(E:E,O27,F:F,$Q$9) -> 0 | R27: =COUNTIFS(E:E,O27,F:F,$R$9) -> 0 | S27: =COUNTIFS(E:E,O27,F:F,$S$9) -> 0 | T27: =COUNTIFS(E:E,O27,I:I,"✔") -> 0 | U27: =SUMIFS($G$10:$G$509,$E$10:$E$509,O27,$F$10:$F$509,$U$9) -> 0 | V27: =SUMIFS($G$10:$G$509,$E$10:$E$509,O27,$F$10:$F$509,$V$9) -> 0 | W27: =SUMIFS($G$10:$G$509,$E$10:$E$509,O27,$F$10:$F$509,$W$9) -> 0 | X27: =SUMIFS($G$10:$G$509,$E$10:$E$509,O27,$F$10:$F$509,$X$9) -> 0 | Y27: =SUMIFS($G$10:$G$509,$E$10:$E$509,O27,$I$10:$I$509,"✔") -> 0 | AJ27: 2023年
B28: 19 | O28: 2021年 | P28: =COUNTIFS(E:E,O28,F:F,$P$9) -> 0 | Q28: =COUNTIFS(E:E,O28,F:F,$Q$9) -> 0 | R28: =COUNTIFS(E:E,O28,F:F,$R$9) -> 0 | S28: =COUNTIFS(E:E,O28,F:F,$S$9) -> 0 | T28: =COUNTIFS(E:E,O28,I:I,"✔") -> 0 | U28: =SUMIFS($G$10:$G$509,$E$10:$E$509,O28,$F$10:$F$509,$U$9) -> 0 | V28: =SUMIFS($G$10:$G$509,$E$10:$E$509,O28,$F$10:$F$509,$V$9) -> 0 | W28: =SUMIFS($G$10:$G$509,$E$10:$E$509,O28,$F$10:$F$509,$W$9) -> 0 | X28: =SUMIFS($G$10:$G$509,$E$10:$E$509,O28,$F$10:$F$509,$X$9) -> 0 | Y28: =SUMIFS($G$10:$G$509,$E$10:$E$509,O28,$I$10:$I$509,"✔") -> 0
B29: 20 | O29: 2022年 | P29: =COUNTIFS(E:E,O29,F:F,$P$9) -> 0 | Q29: =COUNTIFS(E:E,O29,F:F,$Q$9) -> 0 | R29: =COUNTIFS(E:E,O29,F:F,$R$9) -> 0 | S29: =COUNTIFS(E:E,O29,F:F,$S$9) -> 0 | T29: =COUNTIFS(E:E,O29,I:I,"✔") -> 0 | U29: =SUMIFS($G$10:$G$509,$E$10:$E$509,O29,$F$10:$F$509,$U$9) -> 0 | V29: =SUMIFS($G$10:$G$509,$E$10:$E$509,O29,$F$10:$F$509,$V$9) -> 0 | W29: =SUMIFS($G$10:$G$509,$E$10:$E$509,O29,$F$10:$F$509,$W$9) -> 0 | X29: =SUMIFS($G$10:$G$509,$E$10:$E$509,O29,$F$10:$F$509,$X$9) -> 0 | Y29: =SUMIFS($G$10:$G$509,$E$10:$E$509,O29,$I$10:$I$509,"✔") -> 0
B30: 21 | O30: 2023年 | P30: =COUNTIFS(E:E,O30,F:F,$P$9) -> 0 | Q30: =COUNTIFS(E:E,O30,F:F,$Q$9) -> 0 | R30: =COUNTIFS(E:E,O30,F:F,$R$9) -> 0 | S30: =COUNTIFS(E:E,O30,F:F,$S$9) -> 0 | T30: =COUNTIFS(E:E,O30,I:I,"✔") -> 0 | U30: =SUMIFS($G$10:$G$509,$E$10:$E$509,O30,$F$10:$F$509,$U$9) -> 0 | V30: =SUMIFS($G$10:$G$509,$E$10:$E$509,O30,$F$10:$F$509,$V$9) -> 0 | W30: =SUMIFS($G$10:$G$509,$E$10:$E$509,O30,$F$10:$F$509,$W$9) -> 0 | X30: =SUMIFS($G$10:$G$509,$E$10:$E$509,O30,$F$10:$F$509,$X$9) -> 0 | Y30: =SUMIFS($G$10:$G$509,$E$10:$E$509,O30,$I$10:$I$509,"✔") -> 0
B31: 22 | O31: 2012年 | P31: =SUM(P10:P30) -> 0 | Q31: =SUM(Q10:Q30) -> 0 | R31: =SUM(R10:R30) -> 0 | S31: =SUM(S10:S30) -> 0 | T31: =SUM(T10:T30) -> 0 | U31: =SUM(U10:U30) -> 0 | V31: =SUM(V10:V30) -> 0 | W31: =SUM(W10:W30) -> 0 | ... Y31: =SUM(Y10:Y30) -> 0
B32: 23 | O32: 2013年
B33: 24 | O33: 2014年
B34: 25 | O34: 2015年
B35: 26 | O35: 2016年
B36: 27 | O36: 2017年
B37: 28 | O37: 2018年
B38: 29 | O38: 2019年
B39: 30 | O39: 2020年
B40: 31 | O40: 2021年
B41: 32 | O41: 2022年
B42: 33 | O42: 2023年
B43: 34
B44: 35
B45: 36
B46: 37
...

Sheet ←入力用シートへ入力　提出用を確認し打出し
